BEGIN:VCALENDAR
VERSION:2.0
PRODID:-//Aan de haak - ECPv6.15.18//NONSGML v1.0//EN
CALSCALE:GREGORIAN
METHOD:PUBLISH
X-ORIGINAL-URL:https://aandehaak.nl
X-WR-CALDESC:Evenementen voor Aan de haak
REFRESH-INTERVAL;VALUE=DURATION:PT1H
X-Robots-Tag:noindex
X-PUBLISHED-TTL:PT1H
BEGIN:VTIMEZONE
TZID:Europe/Amsterdam
BEGIN:DAYLIGHT
TZOFFSETFROM:+0100
TZOFFSETTO:+0200
TZNAME:CEST
DTSTART:20150329T010000
END:DAYLIGHT
BEGIN:STANDARD
TZOFFSETFROM:+0200
TZOFFSETTO:+0100
TZNAME:CET
DTSTART:20151025T010000
END:STANDARD
BEGIN:DAYLIGHT
TZOFFSETFROM:+0100
TZOFFSETTO:+0200
TZNAME:CEST
DTSTART:20160327T010000
END:DAYLIGHT
BEGIN:STANDARD
TZOFFSETFROM:+0200
TZOFFSETTO:+0100
TZNAME:CET
DTSTART:20161030T010000
END:STANDARD
BEGIN:DAYLIGHT
TZOFFSETFROM:+0100
TZOFFSETTO:+0200
TZNAME:CEST
DTSTART:20170326T010000
END:DAYLIGHT
BEGIN:STANDARD
TZOFFSETFROM:+0200
TZOFFSETTO:+0100
TZNAME:CET
DTSTART:20171029T010000
END:STANDARD
BEGIN:DAYLIGHT
TZOFFSETFROM:+0100
TZOFFSETTO:+0200
TZNAME:CEST
DTSTART:20180325T010000
END:DAYLIGHT
BEGIN:STANDARD
TZOFFSETFROM:+0200
TZOFFSETTO:+0100
TZNAME:CET
DTSTART:20181028T010000
END:STANDARD
BEGIN:DAYLIGHT
TZOFFSETFROM:+0100
TZOFFSETTO:+0200
TZNAME:CEST
DTSTART:20190331T010000
END:DAYLIGHT
BEGIN:STANDARD
TZOFFSETFROM:+0200
TZOFFSETTO:+0100
TZNAME:CET
DTSTART:20191027T010000
END:STANDARD
BEGIN:DAYLIGHT
TZOFFSETFROM:+0100
TZOFFSETTO:+0200
TZNAME:CEST
DTSTART:20200329T010000
END:DAYLIGHT
BEGIN:STANDARD
TZOFFSETFROM:+0200
TZOFFSETTO:+0100
TZNAME:CET
DTSTART:20201025T010000
END:STANDARD
END:VTIMEZONE
BEGIN:VEVENT
DTSTART;VALUE=DATE:20190214
DTEND;VALUE=DATE:20190218
DTSTAMP:20260423T165042
CREATED:20181121T093120Z
LAST-MODIFIED:20181121T093120Z
UID:7497-1550102400-1550447999@aandehaak.nl
SUMMARY:Handwerkbeurs Zwolle
DESCRIPTION:Voor liefhebbers van textiele hobby’s is de Handwerkbeurs in Zwolle dÃ© beurs van het jaar! \nMet ruim 220 exposanten op het gebied van quilten\, breien\, haken\, borduren\, vilten\, textielverf\, spinnen\, weven en zelf-maak-mode. \nDiverse bloggers en vloggers uit de handwerkwereld zijn aanwezig. Ook zijn er meet & greets en boek signeersessies met ontwerpers. Er zijn heel veel workshops waarin je technieken kunt leren om je favoriete hobby nog beter onder de knie te krijgen. Sommige zijn ook geschikt voor kinderen. \nEr zijn twee textiele tentoonstellingen te zien. Voor borduurliefhebbers is er een expositie â€˜Japans borduren’ door Cosy Corners\, waar een aantal prachtige werken te zien zijn. Verder worden er dagelijks demonstraties gegeven. Tevens is er een tentoonstelling met viltwerk te zien van de â€˜OnlineViltschool’. \nHandwerkbeurs Zwolle\nIJsselhallen\nRieteweg 4\n8011 AB Zwolle \n14 t/m 17 februari 2019\n10:00-17:00 uur (zondag tot 16:00 uur)\nEntree â‚¬ 11\,00 of â‚¬ 19\,00 passe-partout\, kinderen tot 12 jaar gratis\nParkeren is gratis\nwww.handwerkbeurs.nl
URL:https://aandehaak.nl/event/handwerkbeurs-zwolle/
LOCATION:IJsselhallen\, Rieteweg 4\, Zwolle\, Nederland
CATEGORIES:Beurs,Evenement
ATTACH;FMTTYPE=image/jpeg:https://aandehaak.nl/wp-content/uploads/2018/11/HandwerkbeursZwolle2018-1.jpg
END:VEVENT
BEGIN:VEVENT
DTSTART;VALUE=DATE:20170209
DTEND;VALUE=DATE:20170213
DTSTAMP:20260423T165042
CREATED:20170202T094100Z
LAST-MODIFIED:20170202T094224Z
UID:4184-1486598400-1486943999@aandehaak.nl
SUMMARY:HANDWERKBEURS
DESCRIPTION:Op de Handwerkbeurs 2017 zijn ca. 220 exposanten aanwezig die je alles laten zien op het gebied van breien\, haken\, patchwork en quilten\, borduren\, vilt\, kralen en sieraden\, kantklossen en nog veel meer. Daarnaast zijn er demonstraties\, vele workshops\, booksignings\, een bloggersplein en een ontwerpersplein.
URL:https://aandehaak.nl/event/handwerkbeurs-2/
LOCATION:Ijselhallen\, Rieteweg 4 \,  Zwolle\, 8011 BC 
CATEGORIES:Beurs
END:VEVENT
BEGIN:VEVENT
DTSTART;VALUE=DATE:20160209
DTEND;VALUE=DATE:20160213
DTSTAMP:20260423T165042
CREATED:20161019T122847Z
LAST-MODIFIED:20161020T092403Z
UID:3670-1454976000-1455321599@aandehaak.nl
SUMMARY:Handwerkbeurs
DESCRIPTION:Noteer alvast de datum voor 2017 in uw agenda. Wilt u op de hoogte blijven dan kunt u zich aanmelden voor de nieuwsbrief (boven aan deze pagina)\, of volg ons op Twitter en Facebook. \nDe 2017 editie wordt nog groter! Niet alleen stands met de mooiste handwerkartikelen maar ook veel demo’s\, workshops\, booksignings\, bloggersplein\, ontwerpersplein en veel meer.
URL:https://aandehaak.nl/event/handwerkbeurs/
LOCATION:Ijselhallen\, Rieteweg 4 \,  Zwolle\, 8011 BC 
CATEGORIES:Beurs
ATTACH;FMTTYPE=image/jpeg:https://aandehaak.nl/wp-content/uploads/2016/10/handwerkbeurs_ijsselhallen_6-2.jpg
END:VEVENT
END:VCALENDAR